Felt | Verdi |
AEBBracketValue | 0 |
AlreadyApplied | True |
Aperture | 8.0 |
ApertureValue | 8.0 |
Artist | |
AutoExposureBracketing | Off |
AutoISO | 100 |
BaseISO | 0 |
BitsPerSample (1) | 8, 8, 8 |
BitsPerSample | 8 |
BlueHue | 0 |
BlueSaturation | 0 |
Brightness | +22 |
BulbDuration | 0 |
CameraProfile | Beta |
CameraType | n/a |
CanonExposureMode | Unknown (-1) |
CanonFirmwareVersion | |
CanonFlashMode | n/a |
CanonImageSize | n/a |
CanonImageType | |
ChromaticAberrationB | 0 |
ChromaticAberrationR | 0 |
CircleOfConfusion | 0.019 mm |
Clarity | 0 |
ColorComponents | 1 |
ColorMode | RGB |
ColorNoiseReduction | 25 |
ColorSpace | sRGB |
ColorTemperature | 4700 |
ContinuousDrive | Unknown (-1) |
Contrast | +25 |
ControlMode | n/a |
ConvertToGrayscale | False |
CreateDate (1) | 2010:08:21 15:33:09.36+02:00 |
CreateDate | 2010:08:21 15:33:09 |
CustomRendered | Normal |
DateTimeDigitized | 2010:08:21 15:33:09.36+02:00 |
DateTimeOriginal (1) | 2010:08:21 15:33:09.36+02:00 |
DateTimeOriginal | 2010:08:21 15:33:09 |
Defringe | 0 |
DigitalZoom | None |
DriveMode | Continuous Shooting |
EasyMode | Unknown (-1) |
ExifImageHeight (1) | 3456 |
ExifImageHeight | 923 |
ExifImageWidth (1) | 4792 |
ExifImageWidth | 1280 |
Exposure | 0.00 |
ExposureCompensation | 0 |
ExposureMode | Auto |
ExposureProgram | Aperture-priority AE |
ExposureTime | 1/100 |
FileNumber | 0 |
FillLight | 0 |
Firmware | 1.1.0 |
Flash | Off, Did not fire |
FlashBits | (none) |
FlashCompensation | 0 |
FlashExposureComp | 0 |
FlashFired | False |
FlashFunction | False |
FlashGuideNumber | 0 |
FlashMode | Off |
FlashRedEyeMode | False |
FlashReturn | No return detection |
FNumber | 8.0 |
FocalLength | 70.0 mm |
FocalLength35efl | 70.0 mm (35 mm equivalent: 109.9 mm) |
FocalUnits | 32/mm |
FocusMode | Single |
FocusRange | Not Known |
Format | image/tiff |
FOV | 18.6 deg |
GreenHue | 0 |
GreenSaturation | 0 |
HasCrop | False |
HasSettings | True |
HighlightRecovery | 25 |
HueAdjustmentAqua | 0 |
HueAdjustmentBlue | 0 |
HueAdjustmentGreen | 0 |
HueAdjustmentMagenta | 0 |
HueAdjustmentOrange | 0 |
HueAdjustmentPurple | 0 |
HueAdjustmentRed | 0 |
HueAdjustmentYellow | 0 |
HyperfocalDistance | 32.01 m |
ICCProfileName | sRGB IEC61966-2.1 |
ImageHeight (1) | 3456 |
ImageHeight | 923 |
ImageNumber | 0 |
ImageSize | 1280x923 |
ImageWidth (1) | 4792 |
ImageWidth | 1280 |
ISO (2) | 0 |
ISO | 100 |
Lens (1) | EF24-70mm f/2.8L USM |
Lens | 0.0 mm |
Lens35efl | 0.0 mm (35 mm equivalent: 0.0 mm) |
LensID | n/a |
LensInfo | 24-70mm f/? |
LensType | n/a |
LightValue | 12.6 |
LuminanceAdjustmentAqua | 0 |
LuminanceAdjustmentBlue | 0 |
LuminanceAdjustmentGreen | 0 |
LuminanceAdjustmentMagenta | 0 |
LuminanceAdjustmentOrange | 0 |
LuminanceAdjustmentPurple | 0 |
LuminanceAdjustmentRed | 0 |
LuminanceAdjustmentYellow | 0 |
LuminanceSmoothing | 0 |
MacroMode | Unknown (0) |
Make | Canon |
ManualFlashOutput | n/a |
MaxApertureValue | 2.8 |
MaxFocalLength | 0 mm |
MeasuredEV | 5.00 |
Megapixels | 1.2 |
MeteringMode (1) | Multi-segment |
MeteringMode | Unknown (-1) |
MinFocalLength | 0 mm |
Model | Canon EOS 7D |
ModifyDate (1) | 2010:09:14 20:47:56+02:00 |
ModifyDate | 2010:08:21 15:33:09 |
NDFilter | n/a |
OpticalZoomCode | n/a |
Orientation | Horizontal (normal) |
OwnerName | |
ParametricDarks | 0 |
ParametricHighlights | 0 |
ParametricHighlightSplit | 75 |
ParametricLights | 0 |
ParametricMidtoneSplit | 50 |
ParametricShadows | 0 |
ParametricShadowSplit | 25 |
PhotometricInterpretation | RGB |
PlanarConfiguration | Chunky |
PostCropVignetteAmount | 0 |
ProfileDescription | sRGB IEC61966-2.1 |
Quality | Fine |
Rating | 0 |
RawFileName | IMG_0887.CR2 |
RedHue | 0 |
RedSaturation | 0 |
RelatedImageHeight | 923 |
RelatedImageWidth | 1280 |
SamplesPerPixel | 3 |
Saturation | -100 |
SaturationAdjustmentAqua | 0 |
SaturationAdjustmentBlue | 0 |
SaturationAdjustmentGreen | 0 |
SaturationAdjustmentMagenta | 0 |
SaturationAdjustmentOrange | 0 |
SaturationAdjustmentPurple | 0 |
SaturationAdjustmentRed | 0 |
SaturationAdjustmentYellow | 0 |
ScaleFactor35efl | 1.6 |
SceneCaptureType | Standard |
SelfTimer | Off |
SequenceNumber | 0 |
SerialNumber | 430400909 |
Shadows | 4 |
ShadowTint | 0 |
SharpenDetail | 25 |
SharpenEdgeMasking | 0 |
SharpenRadius | +1.0 |
Sharpness | 25 |
ShootingMode | Unknown (-1) |
ShutterSpeed | 1/100 |
ShutterSpeedValue | 1/100 |
SidecarForExtension | CR2 |
SlowShutter | None |
Software | Digital Photo Professional |
SplitToningBalance | 0 |
SplitToningHighlightHue | 0 |
SplitToningHighlightSaturation | 0 |
SplitToningShadowHue | 0 |
SplitToningShadowSaturation | 0 |
SRAWQuality | n/a |
TargetAperture | 8 |
TargetExposureTime | 1/101 |
Tint | +14 |
ToneCurve | 0, 0, 32, 22, 64, 56, 128, 128, 192, 196, 255, 255 |
ToneCurveName | Medium Contrast |
UserComment | |
Version | 5.5 |
Vibrance | 0 |
VignetteAmount | 0 |
WhiteBalance (1) | Auto |
WhiteBalance (3) | As Shot |
WhiteBalance | Unknown (-1) |
ZoomSourceWidth | 0 |
ZoomTargetWidth | 0 |