Felt | Verdi |
AlreadyApplied | True |
Aperture | 7.1 |
ApertureValue | 7.1 |
ApproximateFocusDistance | 4294967295 |
AutoLateralCA | 0 |
BitsPerSample | 8 |
Blacks2012 | -11 |
BlueHue | 0 |
BlueSaturation | 0 |
CameraProfile | Adobe Standard |
CircleOfConfusion | 0.018 mm |
Clarity2012 | -14 |
ColorComponents | 3 |
ColorGradeBlending | 50 |
ColorGradeGlobalHue | 0 |
ColorGradeGlobalLum | 0 |
ColorGradeGlobalSat | 0 |
ColorGradeHighlightLum | 0 |
ColorGradeMidtoneHue | 0 |
ColorGradeMidtoneLum | 0 |
ColorGradeMidtoneSat | 0 |
ColorGradeShadowLum | 0 |
ColorMode | RGB |
ColorNoiseReduction | 25 |
ColorNoiseReductionDetail | 50 |
ColorNoiseReductionSmoothness | 50 |
ColorSpace | Uncalibrated |
ColorTemperature | 5250 |
ColorTransform | YCbCr |
CompatibleVersion | 234881024 |
Contrast2012 | -21 |
CreateDate | 2024:07:04 12:25:46 |
CropAngle | 0 |
CropBottom | 0.885252 |
CropConstrainToWarp | 0 |
CropLeft | 0.002338 |
CropRight | 0.997662 |
CropTop | 0.040372 |
CurveRefineSaturation | 100 |
CustomRendered | Normal |
DateCreated (1) | 2024:07:04 |
DateCreated | 2024:07:04 12:25:46 |
DateTimeOriginal | 2024:07:04 12:25:46 |
DefringeGreenAmount | 0 |
DefringeGreenHueHi | 60 |
DefringeGreenHueLo | 40 |
DefringePurpleAmount | 0 |
DefringePurpleHueHi | 70 |
DefringePurpleHueLo | 30 |
Dehaze | 0 |
DOF | inf (38.82 m - inf) |
ExifImageHeight | 3395 |
ExifImageWidth | 5987 |
Exposure2012 | +0.80 |
ExposureCompensation | 0 |
ExposureMode | Manual |
ExposureProgram | Manual |
ExposureTime | 1/320 |
Firmware | 1.0.2 |
Flash | Off, Did not fire |
FlashCompensation | 0 |
FNumber | 7.1 |
FocalLength | 70.0 mm |
FocalLength35efl | 70.0 mm (35 mm equivalent: 118.3 mm) |
Format | image/jpeg |
FOV | 17.3 deg |
GrainAmount | 0 |
GreenHue | 0 |
GreenSaturation | 0 |
HasCrop | True |
HasSettings | True |
HDREditMode | 0 |
Highlights2012 | -56 |
HueAdjustmentAqua | 0 |
HueAdjustmentBlue | 0 |
HueAdjustmentGreen | +5 |
HueAdjustmentMagenta | 0 |
HueAdjustmentOrange | 0 |
HueAdjustmentPurple | 0 |
HueAdjustmentRed | 0 |
HueAdjustmentYellow | -1 |
HyperfocalDistance | 38.82 m |
ICCProfileName | Display P3 |
ImageHeight | 3395 |
ImageNumber | 0 |
ImageSize | 5987x3395 |
ImageWidth | 5987 |
ISO | 100 |
Lens | TAMRON 35-150mm F/2.8-4.0 Di VC OSD A043 |
LensID (1) | 117 |
LensID | Tamron 35-150mm f/2.8-4.0 Di VC OSD (A043) |
LensInfo | 35-150mm f/? |
LensManualDistortionAmount | 0 |
LensModel | TAMRON 35-150mm F/2.8-4.0 Di VC OSD A043 |
LensProfileEnable | 0 |
LensSerialNumber | 0000000000 |
LightValue | 14.0 |
LookAmount | 1 |
LookCopyright | © 2018 Adobe Systems, Inc. |
LookGroup | Profiles |
LookName | Adobe Color |
LookParametersCameraProfile | Adobe Standard |
LookParametersConvertToGrayscale | False |
LookParametersLookTable | E1095149FDB39D7A057BAB208837E2E1 |
LookParametersProcessVersion | 15.4 |
LookParametersToneCurvePV2012 | 0, 0, 22, 16, 40, 35, 127, 127, 224, 230, 240, 246, 255, 255 |
LookParametersToneCurvePV2012Blue | 0, 0, 255, 255 |
LookParametersToneCurvePV2012Green | 0, 0, 255, 255 |
LookParametersToneCurvePV2012Red | 0, 0, 255, 255 |
LookParametersVersion | 16.0 |
LookSupportsAmount | false |
LookSupportsMonochrome | false |
LookSupportsOutputReferred | false |
LuminanceAdjustmentAqua | -17 |
LuminanceAdjustmentBlue | 0 |
LuminanceAdjustmentGreen | -17 |
LuminanceAdjustmentMagenta | 0 |
LuminanceAdjustmentOrange | -13 |
LuminanceAdjustmentPurple | 0 |
LuminanceAdjustmentRed | -12 |
LuminanceAdjustmentYellow | -7 |
LuminanceSmoothing | 0 |
Make | Canon |
MaxApertureValue | 3.4 |
Megapixels | 20.3 |
MeteringMode | Multi-segment |
Model | Canon EOS 80D |
ModifyDate (1) | 2024:08:18 14:48:15+02:00 |
ModifyDate | 2024:08:18 14:48:15 |
Orientation | Horizontal (normal) |
OverrideLookVignette | False |
ParametricDarks | 0 |
ParametricHighlights | 0 |
ParametricHighlightSplit | 75 |
ParametricLights | 0 |
ParametricMidtoneSplit | 50 |
ParametricShadows | 0 |
ParametricShadowSplit | 25 |
PerspectiveAspect | 0 |
PerspectiveHorizontal | 0 |
PerspectiveRotate | 0.0 |
PerspectiveScale | 100 |
PerspectiveUpright | 1 |
PerspectiveVertical | 0 |
PerspectiveX | 0.00 |
PerspectiveY | 0.00 |
PostCropVignetteAmount | 0 |
ProcessVersion | 15.4 |
ProfileDescription | Display P3 |
Rating | 0 |
RecommendedExposureIndex | 100 |
RedHue | 0 |
RedSaturation | 0 |
Saturation | 0 |
SaturationAdjustmentAqua | -29 |
SaturationAdjustmentBlue | 0 |
SaturationAdjustmentGreen | -37 |
SaturationAdjustmentMagenta | 0 |
SaturationAdjustmentOrange | +7 |
SaturationAdjustmentPurple | 0 |
SaturationAdjustmentRed | -12 |
SaturationAdjustmentYellow | -25 |
ScaleFactor35efl | 1.7 |
SceneCaptureType | Standard |
SensitivityType | Recommended Exposure Index |
SerialNumber | 223024005198 |
Shadows2012 | 0 |
ShadowTint | 0 |
Sharpness | 0 |
ShutterSpeed | 1/320 |
ShutterSpeedValue | 1/320 |
Software | Adobe Photoshop 21.0 (Windows) |
SplitToningBalance | 0 |
SplitToningHighlightHue | 219 |
SplitToningHighlightSaturation | 7 |
SplitToningShadowHue | 56 |
SplitToningShadowSaturation | 11 |
Texture | +37 |
Tint | +6 |
ToneCurveName2012 | Custom |
ToneCurvePV2012 | 0, 12, 21, 31, 255, 255 |
ToneCurvePV2012Blue | 0, 0, 255, 255 |
ToneCurvePV2012Green | 0, 0, 255, 255 |
ToneCurvePV2012Red | 0, 0, 255, 255 |
URL_List | |
Version | 16.0 |
Vibrance | 0 |
VignetteAmount | 0 |
WhiteBalance (1) | As Shot |
WhiteBalance | Manual |
Whites2012 | -6 |