Felt | Verdi |
AlreadyApplied | True |
Aperture | 16.0 |
ApertureValue | 16.0 |
ApproximateFocusDistance | 4294967295 |
AutoLateralCA | 0 |
BitsPerSample | 16 16 16 |
Blacks2012 | -4 |
BlueHue | 0 |
BlueSaturation | 0 |
CameraProfile | Matrix |
CircleOfConfusion | 0.041 mm |
Clarity2012 | -17 |
ColorGradeBlending | 50 |
ColorGradeGlobalHue | 0 |
ColorGradeGlobalLum | 0 |
ColorGradeGlobalSat | 0 |
ColorGradeHighlightLum | 0 |
ColorGradeMidtoneHue | 74 |
ColorGradeMidtoneLum | 0 |
ColorGradeMidtoneSat | 8 |
ColorGradeShadowLum | -5 |
ColorNoiseReduction | 58 |
ColorNoiseReductionDetail | 50 |
ColorNoiseReductionSmoothness | 63 |
ColorSpace | Uncalibrated |
ColorTemperature | 3100 |
Contrast2012 | +49 |
ConvertToGrayscale | False |
Copyright | Hasselblad H3D |
CopyrightNotice | Hasselblad H3D |
CreatorTool | Adobe Photoshop Lightroom Classic 10.2 (Windows) |
CropAngle | 1.452 |
CropBottom | 1 |
CropConstrainToWarp | 0 |
CropLeft | 0.025541 |
CropRight | 0.974459 |
CropTop | 0 |
DateCreated (1) | 2000:01:01 00:28:47 |
DateCreated | 2000:01:01 |
DateTimeOriginal | 2000:01:01 00:28:47 |
DefringeGreenAmount | 0 |
DefringeGreenHueHi | 60 |
DefringeGreenHueLo | 40 |
DefringePurpleAmount | 0 |
DefringePurpleHueHi | 70 |
DefringePurpleHueLo | 30 |
Dehaze | -32 |
DOF | inf (9.71 m - inf) |
Exposure2012 | +1.25 |
ExposureProgram | Manual |
ExposureTime | 5 |
FNumber | 16.0 |
FocalLength | 80.0 mm |
FocalLength35efl | 80.0 mm (35 mm equivalent: 58.3 mm) |
Format | image/tiff |
FOV | 34.3 deg |
GradientBasedCorrActive | true |
GradientBasedCorrAmount | 1.000000 |
GradientBasedCorrBrightness | 0.000000 |
GradientBasedCorrClarity2012 | 0.000000 |
GradientBasedCorrContrast2012 (6) | 0.159240 |
GradientBasedCorrContrast2012 | 0.000000 |
GradientBasedCorrCorrectionRangeMaskColorAmount | 0.500000 |
GradientBasedCorrCorrectionRangeMaskDepthFeather | 0.500000 |
GradientBasedCorrCorrectionRangeMaskDepthMax | 1.000000 |
GradientBasedCorrCorrectionRangeMaskDepthMin | 0.000000 |
GradientBasedCorrCorrectionRangeMaskLumFeather | 0.500000 |
GradientBasedCorrCorrectionRangeMaskLumMax | 1.000000 |
GradientBasedCorrCorrectionRangeMaskLumMin | 0.000000 |
GradientBasedCorrCorrectionRangeMaskType | 0 |
GradientBasedCorrCorrectionRangeMaskVersion | +2 |
GradientBasedCorrDefringe | 0.000000 |
GradientBasedCorrExposure2012 (1) | -0.197500 |
GradientBasedCorrExposure2012 (2) | -0.299250 |
GradientBasedCorrExposure2012 (3) | -0.172000 |
GradientBasedCorrExposure2012 (4) | 0.000000 |
GradientBasedCorrExposure2012 (5) | -0.070000 |
GradientBasedCorrExposure2012 (6) | 0.019000 |
GradientBasedCorrExposure2012 (7) | -0.133750 |
GradientBasedCorrExposure2012 | -0.146500 |
GradientBasedCorrHighlights2012 (6) | -0.006370 |
GradientBasedCorrHighlights2012 | 0.000000 |
GradientBasedCorrHue | 0.000000 |
GradientBasedCorrLocalBlacks2012 | 0.000000 |
GradientBasedCorrLocalDehaze | 0.000000 |
GradientBasedCorrLocalHue | 0.000000 |
GradientBasedCorrLocalTexture | 0.000000 |
GradientBasedCorrLocalWhites2012 | 0.000000 |
GradientBasedCorrLuminanceNoise | 0.000000 |
GradientBasedCorrMaskFullX (1) | 0.014270 |
GradientBasedCorrMaskFullX (2) | 0.114722 |
GradientBasedCorrMaskFullX (3) | 0.962148 |
GradientBasedCorrMaskFullX (4) | 0.951570 |
GradientBasedCorrMaskFullX (5) | 1.110720 |
GradientBasedCorrMaskFullX (6) | 0.954733 |
GradientBasedCorrMaskFullX (7) | 0.008930 |
GradientBasedCorrMaskFullX | 0.377949 |
GradientBasedCorrMaskFullY (1) | 0.308403 |
GradientBasedCorrMaskFullY (2) | 0.994989 |
GradientBasedCorrMaskFullY (3) | 0.957322 |
GradientBasedCorrMaskFullY (4) | 0.985432 |
GradientBasedCorrMaskFullY (5) | 0.633738 |
GradientBasedCorrMaskFullY (6) | 0.410614 |
GradientBasedCorrMaskFullY (7) | 0.942951 |
GradientBasedCorrMaskFullY | 0.048810 |
GradientBasedCorrMaskValue | 1.000000 |
GradientBasedCorrMaskWhat | Mask/Gradient |
GradientBasedCorrMaskZeroX (1) | 0.076466 |
GradientBasedCorrMaskZeroX (2) | 0.136587 |
GradientBasedCorrMaskZeroX (3) | 0.939139 |
GradientBasedCorrMaskZeroX (4) | 0.900288 |
GradientBasedCorrMaskZeroX (5) | 0.936651 |
GradientBasedCorrMaskZeroX (6) | 0.612604 |
GradientBasedCorrMaskZeroX (7) | 0.059384 |
GradientBasedCorrMaskZeroX | 0.374844 |
GradientBasedCorrMaskZeroY (1) | 0.318820 |
GradientBasedCorrMaskZeroY (2) | 0.868424 |
GradientBasedCorrMaskZeroY (3) | 0.771309 |
GradientBasedCorrMaskZeroY (4) | 0.782241 |
GradientBasedCorrMaskZeroY (5) | 0.515195 |
GradientBasedCorrMaskZeroY (6) | 0.261750 |
GradientBasedCorrMaskZeroY (7) | 0.810108 |
GradientBasedCorrMaskZeroY | 0.193639 |
GradientBasedCorrMoire | 0.000000 |
GradientBasedCorrSaturation | 0.000000 |
GradientBasedCorrShadows2012 | 0.000000 |
GradientBasedCorrSharpness | 0.000000 |
GradientBasedCorrTemperature (2) | -0.681530 |
GradientBasedCorrTemperature | 0.000000 |
GradientBasedCorrTint | 0.000000 |
GradientBasedCorrWhat | Correction |
GrainAmount | 0 |
GreenHue | 0 |
GreenSaturation | 0 |
HasCrop | True |
HasSettings | True |
Highlights2012 | -17 |
HueAdjustmentAqua | -18 |
HueAdjustmentBlue | -8 |
HueAdjustmentGreen | 0 |
HueAdjustmentMagenta | -10 |
HueAdjustmentOrange | -27 |
HueAdjustmentPurple | -18 |
HueAdjustmentRed | +20 |
HueAdjustmentYellow | -52 |
HyperfocalDistance | 9.71 m |
ImageHeight | 5237 |
ImageSize | 6982x5237 |
ImageWidth | 6982 |
ISO | 50 |
Lens | HC 80 |
LensManualDistortionAmount | 0 |
LensModel | HC 80 |
LensProfileEnable | 0 |
LightValue | 6.7 |
LuminanceAdjustmentAqua | -44 |
LuminanceAdjustmentBlue | +1 |
LuminanceAdjustmentGreen | 0 |
LuminanceAdjustmentMagenta | +19 |
LuminanceAdjustmentOrange | -41 |
LuminanceAdjustmentPurple | +15 |
LuminanceAdjustmentRed | -9 |
LuminanceAdjustmentYellow | 0 |
LuminanceNoiseReductionContrast | 0 |
LuminanceNoiseReductionDetail | 50 |
LuminanceSmoothing | 53 |
Make | Hasselblad |
Megapixels | 36.6 |
MeteringMode | Center-weighted average |
Model | Hasselblad H3D |
ModifyDate (1) | 2022:11:01 22:43:36+01:00 |
ModifyDate | 2022:11:01 22:43:36 |
OverrideLookVignette | False |
PaintCorrectionActive | true |
PaintCorrectionAmount | 1.000000 |
PaintCorrectionBrightness | 0.000000 |
PaintCorrectionClarity2012 | 0.000000 |
PaintCorrectionContrast2012 (1) | -0.643310 |
PaintCorrectionContrast2012 | 0.000000 |
PaintCorrectionCorrectionRangeMaskColorAmount | 0.500000 |
PaintCorrectionCorrectionRangeMaskDepthFeather | 0.500000 |
PaintCorrectionCorrectionRangeMaskDepthMax | 1.000000 |
PaintCorrectionCorrectionRangeMaskDepthMin | 0.000000 |
PaintCorrectionCorrectionRangeMaskLumFeather | 0.500000 |
PaintCorrectionCorrectionRangeMaskLumMax | 1.000000 |
PaintCorrectionCorrectionRangeMaskLumMin | 0.000000 |
PaintCorrectionCorrectionRangeMaskType | 0 |
PaintCorrectionCorrectionRangeMaskVersion | +2 |
PaintCorrectionDefringe | 0.000000 |
PaintCorrectionExposure2012 (1) | 0.070000 |
PaintCorrectionExposure2012 (2) | -0.108250 |
PaintCorrectionExposure2012 (3) | -0.006250 |
PaintCorrectionExposure2012 (5) | 0.031750 |
PaintCorrectionExposure2012 (6) | -0.044500 |
PaintCorrectionExposure2012 (8) | -0.057250 |
PaintCorrectionExposure2012 | 0.000000 |
PaintCorrectionHighlights2012 (10) | 0.044590 |
PaintCorrectionHighlights2012 (9) | -0.235670 |
PaintCorrectionHighlights2012 | 0.000000 |
PaintCorrectionHue | 0.000000 |
PaintCorrectionLocalBlacks2012 | 0.000000 |
PaintCorrectionLocalDehaze | 0.000000 |
PaintCorrectionLocalHue (10) | -0.112582 |
PaintCorrectionLocalHue | 0.000000 |
PaintCorrectionLocalTexture | 0.000000 |
PaintCorrectionLocalWhites2012 | 0.000000 |
PaintCorrectionLuminanceNoise | 0.000000 |
PaintCorrectionMaskCenterWeight | 0.000000 |
PaintCorrectionMaskFlow | 1.000000 |
PaintCorrectionMaskRadius (1) | 0.076458 |
PaintCorrectionMaskRadius (10) | 0.004651 |
PaintCorrectionMaskRadius (11) | 0.013078 |
PaintCorrectionMaskRadius (18) | 0.016215 |
PaintCorrectionMaskRadius (19) | 0.009999 |
PaintCorrectionMaskRadius (20) | 0.006665 |
PaintCorrectionMaskRadius (21) | 0.002676 |
PaintCorrectionMaskRadius (3) | 0.034208 |
PaintCorrectionMaskRadius (33) | 0.008718 |
PaintCorrectionMaskRadius (35) | 0.015104 |
PaintCorrectionMaskRadius (39) | 0.021096 |
PaintCorrectionMaskRadius (40) | 0.026654 |
PaintCorrectionMaskRadius (44) | 0.010808 |
PaintCorrectionMaskRadius (45) | 0.009702 |
PaintCorrectionMaskRadius | 0.006538 |
PaintCorrectionMaskValue | 1.000000 |
PaintCorrectionMaskWhat | Mask/Paint |
PaintCorrectionMoire | 0.000000 |
PaintCorrectionSaturation (1) | -0.414010 |
PaintCorrectionSaturation (11) | -0.936310 |
PaintCorrectionSaturation (13) | 0.031850 |
PaintCorrectionSaturation (21) | 0.222930 |
PaintCorrectionSaturation (23) | 0.070060 |
PaintCorrectionSaturation (25) | -0.159240 |
PaintCorrectionSaturation | 0.000000 |
PaintCorrectionShadows2012 | 0.000000 |
PaintCorrectionSharpness | 0.000000 |
PaintCorrectionTemperature (1) | -0.197450 |
PaintCorrectionTemperature (2) | 0.031850 |
PaintCorrectionTemperature (9) | -0.681530 |
PaintCorrectionTemperature | 0.000000 |
PaintCorrectionTint | 0.000000 |
PaintCorrectionWhat | Correction |
ParametricDarks | 0 |
ParametricHighlights | -22 |
ParametricHighlightSplit | 75 |
ParametricLights | -23 |
ParametricMidtoneSplit | 50 |
ParametricShadows | 0 |
ParametricShadowSplit | 25 |
PerspectiveAspect | 0 |
PerspectiveHorizontal | 0 |
PerspectiveRotate | 0.0 |
PerspectiveScale | 100 |
PerspectiveUpright | 0 |
PerspectiveVertical | 0 |
PerspectiveX | 0.00 |
PerspectiveY | 0.00 |
PhotometricInterpretation | RGB |
PlanarConfiguration | Chunky |
PostCropVignetteAmount | 0 |
PreservedFileName | A8413702.3FR |
ProcessVersion | 11.0 |
ProfileDescription | ProPhoto RGB |
Rating | 4 |
RawFileName | A8413702.3FR |
RedHue | 0 |
RedSaturation | 0 |
Rights | Hasselblad H3D |
RowsPerStrip | 5237 |
SamplesPerPixel | 3 |
Saturation | -1 |
SaturationAdjustmentAqua | -27 |
SaturationAdjustmentBlue | -8 |
SaturationAdjustmentGreen | 0 |
SaturationAdjustmentMagenta | +3 |
SaturationAdjustmentOrange | -1 |
SaturationAdjustmentPurple | -65 |
SaturationAdjustmentRed | 0 |
SaturationAdjustmentYellow | 0 |
ScaleFactor35efl | 0.7 |
Shadows2012 | +12 |
ShadowTint | 0 |
SharpenDetail | 25 |
SharpenEdgeMasking | 38 |
SharpenRadius | +1.0 |
Sharpness | 94 |
ShutterSpeed | 5 |
ShutterSpeedValue | 5 |
Software | Adobe Photoshop Lightroom Classic 10.2 (Windows) |
SplitToningBalance | 0 |
SplitToningHighlightHue | 71 |
SplitToningHighlightSaturation | 36 |
SplitToningShadowHue | 206 |
SplitToningShadowSaturation | 6 |
StripByteCounts | 219388404 |
StripOffsets | 402848 |
SubfileType | Full-resolution Image |
SubjectDistance | 4294967295 m |
Texture | +5 |
Tint | +2 |
ToneCurveName2012 | Custom |
ToneCurvePV2012 | 0, 10, 32, 31, 92, 95, 255, 255 |
ToneCurvePV2012Blue | 0, 0, 255, 255 |
ToneCurvePV2012Green | 0, 0, 255, 255 |
ToneCurvePV2012Red | 0, 0, 255, 255 |
Version | 13.2 |
Vibrance | +22 |
VignetteAmount | 0 |
WhiteBalance | Custom |
Whites2012 | -7 |