Felt | Verdi |
AlreadyApplied | True |
Aperture | 9.0 |
ApertureValue | 9.0 |
ApproximateFocusDistance | 5.98 |
Artist | asgeir.sorhus@gmail.com |
AutoLateralCA | 0 |
AutoWhiteVersion | 134348800 |
BitsPerSample | 8 |
Blacks2012 | +23 |
BlueHue | 0 |
BlueSaturation | 0 |
By-line | asgeir.sorhus@gmail.com |
CameraProfile | Adobe Standard |
CircleOfConfusion | 0.018 mm |
Clarity2012 | +55 |
ColorComponents | 3 |
ColorMode | RGB |
ColorNoiseReduction | 25 |
ColorNoiseReductionDetail | 50 |
ColorNoiseReductionSmoothness | 50 |
ColorSpace | sRGB |
ColorTemperature | 6750 |
ColorTransform | YCbCr |
Contrast2012 | +43 |
ConvertToGrayscale | False |
Copyright | © Asgeir Sørhus |
CopyrightNotice | © Asgeir Sørhus |
CreateDate | 2017:04:29 20:37:40 |
Creator | asgeir.sorhus@gmail.com, Asgeir Sørhus |
CropAngle | 0 |
CropBottom | 0.998017 |
CropConstrainToWarp | 1 |
CropLeft | 0.003203 |
CropRight | 0.997773 |
CropTop | 0.003448 |
CustomRendered | Normal |
DateCreated (1) | 2017:04:29 |
DateCreated | 2017:04:29 20:36:32+02:00 |
DateTimeOriginal | 2017:04:29 20:37:40 |
DefringeGreenAmount | 0 |
DefringeGreenHueHi | 60 |
DefringeGreenHueLo | 40 |
DefringePurpleAmount | 0 |
DefringePurpleHueHi | 70 |
DefringePurpleHueLo | 30 |
Dehaze | 0 |
DOF | inf (2.03 m - inf) |
ExifImageHeight | 2952 |
ExifImageWidth | 5442 |
Exposure2012 | 0.00 |
ExposureCompensation | -3 |
ExposureMode | Auto |
ExposureProgram | Aperture-priority AE |
ExposureTime | 1/200 |
Firmware | 1.0.5 |
Flash | Off, Did not fire |
FlashCompensation | 0 |
FNumber | 9.0 |
FocalLength | 22.0 mm |
FocalLength35efl | 22.0 mm (35 mm equivalent: 37.5 mm) |
Format | image/jpeg |
FOV | 51.3 deg |
GPSAltitude (1) | 33.6 m |
GPSAltitude | 33.6 m Above Sea Level |
GPSAltitudeRef | Above Sea Level |
GPSDateStamp | 2017:04:29 |
GPSDateTime | 2017:04:29 19:37:31.91Z |
GPSDOP | 2.7 |
GPSLatitude (1) | 59 deg 24' 37.64" |
GPSLatitude | 59 deg 24' 37.64" N |
GPSLatitudeRef | North |
GPSLongitude (1) | 5 deg 16' 8.41" |
GPSLongitude | 5 deg 16' 8.41" E |
GPSLongitudeRef | East |
GPSMapDatum | WGS-84 |
GPSMeasureMode | 3-Dimensional Measurement |
GPSPosition | 59 deg 24' 37.64" N, 5 deg 16' 8.41" E |
GPSSatellites | 23 |
GPSStatus | Measurement Active |
GPSTimeStamp | 19:37:31.91 |
GPSVersionID | 2.3.0.0 |
GradientBasedCorrActive | true |
GradientBasedCorrAmount | 1.000000 |
GradientBasedCorrBrightness | 0.000000 |
GradientBasedCorrClarity | 0.000000 |
GradientBasedCorrClarity2012 | 0.480000 |
GradientBasedCorrContrast | 0.000000 |
GradientBasedCorrContrast2012 | 0.160000 |
GradientBasedCorrDefringe | 0.120000 |
GradientBasedCorrExposure | 0.000000 |
GradientBasedCorrExposure2012 | 0.325000 |
GradientBasedCorrHighlights2012 | -1.000000 |
GradientBasedCorrHue | 0.000000 |
GradientBasedCorrLocalBlacks2012 (1) | -0.700000 |
GradientBasedCorrLocalBlacks2012 (2) | 0.060000 |
GradientBasedCorrLocalBlacks2012 | 0.090000 |
GradientBasedCorrLocalDehaze (1) | 0.600000 |
GradientBasedCorrLocalDehaze | 0.000000 |
GradientBasedCorrLocalWhites2012 | -1.000000 |
GradientBasedCorrLuminanceNoise | -0.700000 |
GradientBasedCorrMaskFullX (1) | 0.424286 |
GradientBasedCorrMaskFullX (2) | 0.429807 |
GradientBasedCorrMaskFullX | 0.489161 |
GradientBasedCorrMaskFullY (1) | -0.006785 |
GradientBasedCorrMaskFullY (2) | -0.020239 |
GradientBasedCorrMaskFullY | 1.014639 |
GradientBasedCorrMaskValue | 1.000000 |
GradientBasedCorrMaskWhat | Mask/Gradient |
GradientBasedCorrMaskZeroX (1) | 0.425666 |
GradientBasedCorrMaskZeroX (2) | 0.429807 |
GradientBasedCorrMaskZeroX | 0.489851 |
GradientBasedCorrMaskZeroY (1) | 0.238481 |
GradientBasedCorrMaskZeroY (2) | 0.237446 |
GradientBasedCorrMaskZeroY | 0.230202 |
GradientBasedCorrMoire | 0.360000 |
GradientBasedCorrSaturation | 0.000000 |
GradientBasedCorrShadows2012 | -0.560000 |
GradientBasedCorrSharpness | 0.500000 |
GradientBasedCorrTemperature | 0.470000 |
GradientBasedCorrTint | 0.000000 |
GradientBasedCorrWhat | Correction |
GrainAmount | 0 |
GreenHue | 0 |
GreenSaturation | 0 |
HasCrop | True |
HasSettings | True |
Highlights2012 | -100 |
HueAdjustmentAqua | 0 |
HueAdjustmentBlue | 0 |
HueAdjustmentGreen | 0 |
HueAdjustmentMagenta | 0 |
HueAdjustmentOrange | 0 |
HueAdjustmentPurple | 0 |
HueAdjustmentRed | 0 |
HueAdjustmentYellow | 0 |
HyperfocalDistance | 3.05 m |
ICCProfileName | sRGB IEC61966-2.1 |
ImageHeight | 2952 |
ImageNumber | 0 |
ImageSize | 5442x2952 |
ImageWidth | 5442 |
IsMergedHDR | True |
ISO | 400 |
Lens | 18-200mm |
LensID (1) | 137 |
LensID | Sigma 18-200mm f/3.5-6.3 DC OS HSM [II] |
LensInfo | 18-200mm f/? |
LensManualDistortionAmount | 0 |
LensModel | 18-200mm |
LensProfileEnable | 0 |
LensProfileSetup | LensDefaults |
LensSerialNumber | 0000000000 |
LightValue | 12.0 |
LuminanceAdjustmentAqua | 0 |
LuminanceAdjustmentBlue | 0 |
LuminanceAdjustmentGreen | 0 |
LuminanceAdjustmentMagenta | 0 |
LuminanceAdjustmentOrange | 0 |
LuminanceAdjustmentPurple | 0 |
LuminanceAdjustmentRed | 0 |
LuminanceAdjustmentYellow | 0 |
LuminanceSmoothing | 0 |
Make | Canon |
MaxApertureValue | 3.8 |
Megapixels | 16.1 |
MeteringMode | Multi-segment |
Model | Canon EOS 7D Mark II |
ModifyDate (1) | 2017:05:02 17:54:14+02:00 |
ModifyDate | 2017:05:02 17:54:14 |
Orientation | Horizontal (normal) |
PaintCorrectionActive | true |
PaintCorrectionAmount | 1.000000 |
PaintCorrectionBrightness | 0.000000 |
PaintCorrectionClarity | 0.000000 |
PaintCorrectionClarity2012 | 0.480000 |
PaintCorrectionContrast | 0.000000 |
PaintCorrectionContrast2012 | 0.160000 |
PaintCorrectionDefringe | 1.000000 |
PaintCorrectionExposure | 0.000000 |
PaintCorrectionExposure2012 | 0.662500 |
PaintCorrectionHighlights2012 | -1.000000 |
PaintCorrectionHue | 0.000000 |
PaintCorrectionLocalBlacks2012 | 0.060000 |
PaintCorrectionLocalDehaze | 0.600000 |
PaintCorrectionLocalWhites2012 | -1.000000 |
PaintCorrectionLuminanceNoise | -0.700000 |
PaintCorrectionMaskCenterWeight | 0.000000 |
PaintCorrectionMaskFlow | 0.888889 |
PaintCorrectionMaskRadius | 0.112185 |
PaintCorrectionMaskValue | 1.000000 |
PaintCorrectionMaskWhat | Mask/Paint |
PaintCorrectionMoire | 0.900000 |
PaintCorrectionSaturation | 0.000000 |
PaintCorrectionShadows2012 | 0.030000 |
PaintCorrectionSharpness | 0.500000 |
PaintCorrectionTemperature | 0.470000 |
PaintCorrectionTint | 0.000000 |
PaintCorrectionWhat | Correction |
ParametricDarks | 0 |
ParametricHighlights | 0 |
ParametricHighlightSplit | 75 |
ParametricLights | 0 |
ParametricMidtoneSplit | 50 |
ParametricShadows | 0 |
ParametricShadowSplit | 25 |
PerspectiveAspect | 0 |
PerspectiveHorizontal | 0 |
PerspectiveRotate | 0.0 |
PerspectiveScale | 100 |
PerspectiveUpright | 0 |
PerspectiveVertical | 0 |
PerspectiveX | 0.00 |
PerspectiveY | 0.00 |
PostCropVignetteAmount | 0 |
ProcessVersion | 6.7 |
ProfileDescription | sRGB IEC61966-2.1 |
Rating | 0 |
RawFileName | IMGL8347-HDR.dng |
RecommendedExposureIndex | 400 |
RedHue | 0 |
RedSaturation | 0 |
Rights | © Asgeir Sørhus |
Saturation | +63 |
SaturationAdjustmentAqua | 0 |
SaturationAdjustmentBlue | 0 |
SaturationAdjustmentGreen | 0 |
SaturationAdjustmentMagenta | 0 |
SaturationAdjustmentOrange | 0 |
SaturationAdjustmentPurple | 0 |
SaturationAdjustmentRed | 0 |
SaturationAdjustmentYellow | 0 |
ScaleFactor35efl | 1.7 |
SceneCaptureType | Standard |
SensitivityType | Recommended Exposure Index |
SerialNumber | 063021000941 |
Shadows2012 | +32 |
ShadowTint | 0 |
SharpenDetail | 25 |
SharpenEdgeMasking | 0 |
SharpenRadius | +1.0 |
Sharpness | 25 |
ShutterSpeed | 1/200 |
ShutterSpeedValue | 1/200 |
Software | Adobe Photoshop CC 2017 (Windows) |
SplitToningBalance | 0 |
SplitToningHighlightHue | 0 |
SplitToningHighlightSaturation | 0 |
SplitToningShadowHue | 0 |
SplitToningShadowSaturation | 0 |
Tint | +7 |
ToneCurve | 0, 0, 255, 255 |
ToneCurveBlue | 0, 0, 255, 255 |
ToneCurveGreen | 0, 0, 255, 255 |
ToneCurveName | Linear |
ToneCurveName2012 | Linear |
ToneCurvePV2012 | 0, 0, 255, 255 |
ToneCurvePV2012Blue | 0, 0, 255, 255 |
ToneCurvePV2012Green | 0, 0, 255, 255 |
ToneCurvePV2012Red | 0, 0, 255, 255 |
ToneCurveRed | 0, 0, 255, 255 |
ToneMapStrength | 0 |
URL_List | |
Version | 9.9 |
Vibrance | +48 |
VignetteAmount | 0 |
WhiteBalance (1) | Custom |
WhiteBalance | Auto |
Whites2012 | -100 |